BEGIN:VCALENDAR
VERSION:2.0
PRODID:-//WhenKickoff//Match Reminder//EN
BEGIN:VEVENT
UID:wk-544414-15@whenkickoff.com
DTSTAMP:20260420T153056Z
DTSTART:20260124T173000Z
DTEND:20260124T193000Z
SUMMARY:Sevilla FC vs Athletic Club
DESCRIPTION:WhenKickoff reminder for Sevilla FC vs Athletic Club
URL:https://whenkickoff.com/en/match/sevilla-fc-vs-athletic-club-544414/
BEGIN:VALARM
TRIGGER:-PT15M
ACTION:DISPLAY
DESCRIPTION:Match starts soon
END:VALARM
END:VEVENT
END:VCALENDAR
