BEGIN:VCALENDAR
VERSION:2.0
PRODID:-//WhenKickoff//Match Reminder//EN
BEGIN:VEVENT
UID:wk-544413-15@whenkickoff.com
DTSTAMP:20260420T151551Z
DTSTART:20260125T151500Z
DTEND:20260125T171500Z
SUMMARY:FC Barcelona vs Real Oviedo
DESCRIPTION:WhenKickoff reminder for FC Barcelona vs Real Oviedo
URL:https://whenkickoff.com/en/match/fc-barcelona-vs-real-oviedo-544413/
BEGIN:VALARM
TRIGGER:-PT15M
ACTION:DISPLAY
DESCRIPTION:Match starts soon
END:VALARM
END:VEVENT
END:VCALENDAR
