BEGIN:VCALENDAR
VERSION:2.0
PRODID:-//WhenKickoff//Match Reminder//EN
BEGIN:VEVENT
UID:wk-544411-15@whenkickoff.com
DTSTAMP:20260420T153056Z
DTSTART:20260125T200000Z
DTEND:20260125T220000Z
SUMMARY:Deportivo Alavés vs Real Betis Balompié
DESCRIPTION:WhenKickoff reminder for Deportivo Alavés vs Real Betis Balompié
URL:https://whenkickoff.com/en/match/deportivo-alav-s-vs-real-betis-balompi-544411/
BEGIN:VALARM
TRIGGER:-PT15M
ACTION:DISPLAY
DESCRIPTION:Match starts soon
END:VALARM
END:VEVENT
END:VCALENDAR
