BEGIN:VCALENDAR
VERSION:2.0
PRODID:-//WhenKickoff//Match Reminder//EN
BEGIN:VEVENT
UID:wk-544410-15@whenkickoff.com
DTSTAMP:20260420T120435Z
DTSTART:20260117T130000Z
DTEND:20260117T150000Z
SUMMARY:Real Madrid CF vs Levante UD
DESCRIPTION:WhenKickoff reminder for Real Madrid CF vs Levante UD
URL:https://whenkickoff.com/en/match/real-madrid-cf-vs-levante-ud-544410/
BEGIN:VALARM
TRIGGER:-PT15M
ACTION:DISPLAY
DESCRIPTION:Match starts soon
END:VALARM
END:VEVENT
END:VCALENDAR
