BEGIN:VCALENDAR
VERSION:2.0
PRODID:-//WhenKickoff//Match Reminder//EN
BEGIN:VEVENT
UID:wk-544408-15@whenkickoff.com
DTSTAMP:20260420T113420Z
DTSTART:20260117T151500Z
DTEND:20260117T171500Z
SUMMARY:RCD Mallorca vs Athletic Club
DESCRIPTION:WhenKickoff reminder for RCD Mallorca vs Athletic Club
URL:https://whenkickoff.com/en/match/rcd-mallorca-vs-athletic-club-544408/
BEGIN:VALARM
TRIGGER:-PT15M
ACTION:DISPLAY
DESCRIPTION:Match starts soon
END:VALARM
END:VEVENT
END:VCALENDAR
