BEGIN:VCALENDAR
VERSION:2.0
PRODID:-//WhenKickoff//Match Reminder//EN
BEGIN:VEVENT
UID:wk-544406-15@whenkickoff.com
DTSTAMP:20260420T113420Z
DTSTART:20260117T173000Z
DTEND:20260117T193000Z
SUMMARY:CA Osasuna vs Real Oviedo
DESCRIPTION:WhenKickoff reminder for CA Osasuna vs Real Oviedo
URL:https://whenkickoff.com/en/match/ca-osasuna-vs-real-oviedo-544406/
BEGIN:VALARM
TRIGGER:-PT15M
ACTION:DISPLAY
DESCRIPTION:Match starts soon
END:VALARM
END:VEVENT
END:VCALENDAR
