BEGIN:VCALENDAR
VERSION:2.0
PRODID:-//WhenKickoff//Match Reminder//EN
BEGIN:VEVENT
UID:wk-544405-15@whenkickoff.com
DTSTAMP:20260420T095831Z
DTSTART:20260118T130000Z
DTEND:20260118T150000Z
SUMMARY:Getafe CF vs Valencia CF
DESCRIPTION:WhenKickoff reminder for Getafe CF vs Valencia CF
URL:https://whenkickoff.com/en/match/getafe-cf-vs-valencia-cf-544405/
BEGIN:VALARM
TRIGGER:-PT15M
ACTION:DISPLAY
DESCRIPTION:Match starts soon
END:VALARM
END:VEVENT
END:VCALENDAR
