BEGIN:VCALENDAR
VERSION:2.0
PRODID:-//WhenKickoff//Match Reminder//EN
BEGIN:VEVENT
UID:wk-544404-15@whenkickoff.com
DTSTAMP:20260420T083929Z
DTSTART:20260116T200000Z
DTEND:20260116T220000Z
SUMMARY:RCD Espanyol de Barcelona vs Girona FC
DESCRIPTION:WhenKickoff reminder for RCD Espanyol de Barcelona vs Girona FC
URL:https://whenkickoff.com/en/match/rcd-espanyol-de-barcelona-vs-girona-fc-544404/
BEGIN:VALARM
TRIGGER:-PT15M
ACTION:DISPLAY
DESCRIPTION:Match starts soon
END:VALARM
END:VEVENT
END:VCALENDAR
