BEGIN:VCALENDAR
VERSION:2.0
PRODID:-//WhenKickoff//Match Reminder//EN
BEGIN:VEVENT
UID:wk-544402-15@whenkickoff.com
DTSTAMP:20260420T102906Z
DTSTART:20260118T173000Z
DTEND:20260118T193000Z
SUMMARY:RC Celta de Vigo vs Rayo Vallecano de Madrid
DESCRIPTION:WhenKickoff reminder for RC Celta de Vigo vs Rayo Vallecano de Madrid
URL:https://whenkickoff.com/en/match/rc-celta-de-vigo-vs-rayo-vallecano-de-madrid-544402/
BEGIN:VALARM
TRIGGER:-PT15M
ACTION:DISPLAY
DESCRIPTION:Match starts soon
END:VALARM
END:VEVENT
END:VCALENDAR
