BEGIN:VCALENDAR
VERSION:2.0
PRODID:-//WhenKickoff//Match Reminder//EN
BEGIN:VEVENT
UID:wk-544401-15@whenkickoff.com
DTSTAMP:20260420T104247Z
DTSTART:20260117T200000Z
DTEND:20260117T220000Z
SUMMARY:Real Betis Balompié vs Villarreal CF
DESCRIPTION:WhenKickoff reminder for Real Betis Balompié vs Villarreal CF
URL:https://whenkickoff.com/en/match/real-betis-balompi-vs-villarreal-cf-544401/
BEGIN:VALARM
TRIGGER:-PT15M
ACTION:DISPLAY
DESCRIPTION:Match starts soon
END:VALARM
END:VEVENT
END:VCALENDAR
