BEGIN:VCALENDAR
VERSION:2.0
PRODID:-//WhenKickoff//Match Reminder//EN
BEGIN:VEVENT
UID:wk-544400-15@whenkickoff.com
DTSTAMP:20260420T140118Z
DTSTART:20260111T130000Z
DTEND:20260111T150000Z
SUMMARY:Rayo Vallecano de Madrid vs RCD Mallorca
DESCRIPTION:WhenKickoff reminder for Rayo Vallecano de Madrid vs RCD Mallorca
URL:https://whenkickoff.com/en/match/rayo-vallecano-de-madrid-vs-rcd-mallorca-544400/
BEGIN:VALARM
TRIGGER:-PT15M
ACTION:DISPLAY
DESCRIPTION:Match starts soon
END:VALARM
END:VEVENT
END:VCALENDAR
