BEGIN:VCALENDAR
VERSION:2.0
PRODID:-//WhenKickoff//Match Reminder//EN
BEGIN:VEVENT
UID:wk-544399-15@whenkickoff.com
DTSTAMP:20260420T102940Z
DTSTART:20260111T151500Z
DTEND:20260111T171500Z
SUMMARY:Levante UD vs RCD Espanyol de Barcelona
DESCRIPTION:WhenKickoff reminder for Levante UD vs RCD Espanyol de Barcelona
URL:https://whenkickoff.com/en/match/levante-ud-vs-rcd-espanyol-de-barcelona-544399/
BEGIN:VALARM
TRIGGER:-PT15M
ACTION:DISPLAY
DESCRIPTION:Match starts soon
END:VALARM
END:VEVENT
END:VCALENDAR
