BEGIN:VCALENDAR
VERSION:2.0
PRODID:-//WhenKickoff//Match Reminder//EN
BEGIN:VEVENT
UID:wk-544398-15@whenkickoff.com
DTSTAMP:20260420T121924Z
DTSTART:20260110T200000Z
DTEND:20260110T220000Z
SUMMARY:Valencia CF vs Elche CF
DESCRIPTION:WhenKickoff reminder for Valencia CF vs Elche CF
URL:https://whenkickoff.com/en/match/valencia-cf-vs-elche-cf-544398/
BEGIN:VALARM
TRIGGER:-PT15M
ACTION:DISPLAY
DESCRIPTION:Match starts soon
END:VALARM
END:VEVENT
END:VCALENDAR
