BEGIN:VCALENDAR
VERSION:2.0
PRODID:-//WhenKickoff//Match Reminder//EN
BEGIN:VEVENT
UID:wk-544397-15@whenkickoff.com
DTSTAMP:20260420T142930Z
DTSTART:20260112T200000Z
DTEND:20260112T220000Z
SUMMARY:Sevilla FC vs RC Celta de Vigo
DESCRIPTION:WhenKickoff reminder for Sevilla FC vs RC Celta de Vigo
URL:https://whenkickoff.com/en/match/sevilla-fc-vs-rc-celta-de-vigo-544397/
BEGIN:VALARM
TRIGGER:-PT15M
ACTION:DISPLAY
DESCRIPTION:Match starts soon
END:VALARM
END:VEVENT
END:VCALENDAR
