BEGIN:VCALENDAR
VERSION:2.0
PRODID:-//WhenKickoff//Match Reminder//EN
BEGIN:VEVENT
UID:wk-544396-15@whenkickoff.com
DTSTAMP:20260420T121856Z
DTSTART:20260110T130000Z
DTEND:20260110T150000Z
SUMMARY:Real Oviedo vs Real Betis Balompié
DESCRIPTION:WhenKickoff reminder for Real Oviedo vs Real Betis Balompié
URL:https://whenkickoff.com/en/match/real-oviedo-vs-real-betis-balompi-544396/
BEGIN:VALARM
TRIGGER:-PT15M
ACTION:DISPLAY
DESCRIPTION:Match starts soon
END:VALARM
END:VEVENT
END:VCALENDAR
