BEGIN:VCALENDAR
VERSION:2.0
PRODID:-//WhenKickoff//Match Reminder//EN
BEGIN:VEVENT
UID:wk-544394-15@whenkickoff.com
DTSTAMP:20260420T160907Z
DTSTART:20260110T151500Z
DTEND:20260110T171500Z
SUMMARY:Villarreal CF vs Deportivo Alavés
DESCRIPTION:WhenKickoff reminder for Villarreal CF vs Deportivo Alavés
URL:https://whenkickoff.com/en/match/villarreal-cf-vs-deportivo-alav-s-544394/
BEGIN:VALARM
TRIGGER:-PT15M
ACTION:DISPLAY
DESCRIPTION:Match starts soon
END:VALARM
END:VEVENT
END:VCALENDAR
