BEGIN:VCALENDAR
VERSION:2.0
PRODID:-//WhenKickoff//Match Reminder//EN
BEGIN:VEVENT
UID:wk-544392-15@whenkickoff.com
DTSTAMP:20260420T162223Z
DTSTART:20260109T200000Z
DTEND:20260109T220000Z
SUMMARY:Getafe CF vs Real Sociedad de Fútbol
DESCRIPTION:WhenKickoff reminder for Getafe CF vs Real Sociedad de Fútbol
URL:https://whenkickoff.com/en/match/getafe-cf-vs-real-sociedad-de-f-tbol-544392/
BEGIN:VALARM
TRIGGER:-PT15M
ACTION:DISPLAY
DESCRIPTION:Match starts soon
END:VALARM
END:VEVENT
END:VCALENDAR
