BEGIN:VCALENDAR
VERSION:2.0
PRODID:-//WhenKickoff//Match Reminder//EN
BEGIN:VEVENT
UID:wk-544389-15@whenkickoff.com
DTSTAMP:20260420T203558Z
DTSTART:20260104T173000Z
DTEND:20260104T193000Z
SUMMARY:RCD Mallorca vs Girona FC
DESCRIPTION:WhenKickoff reminder for RCD Mallorca vs Girona FC
URL:https://whenkickoff.com/en/match/rcd-mallorca-vs-girona-fc-544389/
BEGIN:VALARM
TRIGGER:-PT15M
ACTION:DISPLAY
DESCRIPTION:Match starts soon
END:VALARM
END:VEVENT
END:VCALENDAR
