BEGIN:VCALENDAR
VERSION:2.0
PRODID:-//WhenKickoff//Match Reminder//EN
BEGIN:VEVENT
UID:wk-544385-15@whenkickoff.com
DTSTAMP:20260420T183015Z
DTSTART:20260104T200000Z
DTEND:20260104T220000Z
SUMMARY:Real Sociedad de Fútbol vs Club Atlético de Madrid
DESCRIPTION:WhenKickoff reminder for Real Sociedad de Fútbol vs Club Atlético de Madrid
URL:https://whenkickoff.com/en/match/real-sociedad-de-f-tbol-vs-club-atl-tico-de-madrid-544385/
BEGIN:VALARM
TRIGGER:-PT15M
ACTION:DISPLAY
DESCRIPTION:Match starts soon
END:VALARM
END:VEVENT
END:VCALENDAR
