BEGIN:VCALENDAR
VERSION:2.0
PRODID:-//WhenKickoff//Match Reminder//EN
BEGIN:VEVENT
UID:wk-544383-15@whenkickoff.com
DTSTAMP:20260420T175319Z
DTSTART:20260103T173000Z
DTEND:20260103T193000Z
SUMMARY:Elche CF vs Villarreal CF
DESCRIPTION:WhenKickoff reminder for Elche CF vs Villarreal CF
URL:https://whenkickoff.com/en/match/elche-cf-vs-villarreal-cf-544383/
BEGIN:VALARM
TRIGGER:-PT15M
ACTION:DISPLAY
DESCRIPTION:Match starts soon
END:VALARM
END:VEVENT
END:VCALENDAR
