BEGIN:VCALENDAR
VERSION:2.0
PRODID:-//WhenKickoff//Match Reminder//EN
BEGIN:VEVENT
UID:wk-542700-15@whenkickoff.com
DTSTAMP:20260424T120003Z
DTSTART:20260508T184500Z
DTEND:20260508T204500Z
SUMMARY:Racing Club de Lens vs FC Nantes
DESCRIPTION:WhenKickoff reminder for Racing Club de Lens vs FC Nantes
URL:https://whenkickoff.com/en/match/racing-club-de-lens-vs-fc-nantes-542700/
BEGIN:VALARM
TRIGGER:-PT15M
ACTION:DISPLAY
DESCRIPTION:Match starts soon
END:VALARM
END:VEVENT
END:VCALENDAR
