BEGIN:VCALENDAR
VERSION:2.0
PRODID:-//WhenKickoff//Match Reminder//EN
BEGIN:VEVENT
UID:wk-542691-15@whenkickoff.com
DTSTAMP:20260419T130506Z
DTSTART:20260503T130000Z
DTEND:20260503T150000Z
SUMMARY:Lille OSC vs Le Havre AC
DESCRIPTION:WhenKickoff reminder for Lille OSC vs Le Havre AC
URL:https://whenkickoff.com/en/match/lille-osc-vs-le-havre-ac-542691/
BEGIN:VALARM
TRIGGER:-PT15M
ACTION:DISPLAY
DESCRIPTION:Match starts soon
END:VALARM
END:VEVENT
END:VCALENDAR
