BEGIN:VCALENDAR
VERSION:2.0
PRODID:-//WhenKickoff//Match Reminder//EN
BEGIN:VEVENT
UID:wk-542689-15@whenkickoff.com
DTSTAMP:20260419T125432Z
DTSTART:20260502T190500Z
DTEND:20260502T210500Z
SUMMARY:OGC Nice vs Racing Club de Lens
DESCRIPTION:WhenKickoff reminder for OGC Nice vs Racing Club de Lens
URL:https://whenkickoff.com/en/match/ogc-nice-vs-racing-club-de-lens-542689/
BEGIN:VALARM
TRIGGER:-PT15M
ACTION:DISPLAY
DESCRIPTION:Match starts soon
END:VALARM
END:VEVENT
END:VCALENDAR
