BEGIN:VCALENDAR
VERSION:2.0
PRODID:-//WhenKickoff//Match Reminder//EN
BEGIN:VEVENT
UID:wk-542688-15@whenkickoff.com
DTSTAMP:20260419T161027Z
DTSTART:20260503T151500Z
DTEND:20260503T171500Z
SUMMARY:Paris FC vs Stade Brestois 29
DESCRIPTION:WhenKickoff reminder for Paris FC vs Stade Brestois 29
URL:https://whenkickoff.com/en/match/paris-fc-vs-stade-brestois-29-542688/
BEGIN:VALARM
TRIGGER:-PT15M
ACTION:DISPLAY
DESCRIPTION:Match starts soon
END:VALARM
END:VEVENT
END:VCALENDAR
