BEGIN:VCALENDAR
VERSION:2.0
PRODID:-//WhenKickoff//Match Reminder//EN
BEGIN:VEVENT
UID:wk-542677-15@whenkickoff.com
DTSTAMP:20260419T212500Z
DTSTART:20260426T130000Z
DTEND:20260426T150000Z
SUMMARY:FC Lorient vs RC Strasbourg Alsace
DESCRIPTION:WhenKickoff reminder for FC Lorient vs RC Strasbourg Alsace
URL:https://whenkickoff.com/en/match/fc-lorient-vs-rc-strasbourg-alsace-542677/
BEGIN:VALARM
TRIGGER:-PT15M
ACTION:DISPLAY
DESCRIPTION:Match starts soon
END:VALARM
END:VEVENT
END:VCALENDAR
