BEGIN:VCALENDAR
VERSION:2.0
PRODID:-//WhenKickoff//Match Reminder//EN
BEGIN:VEVENT
UID:wk-542638-15@whenkickoff.com
DTSTAMP:20260419T125432Z
DTSTART:20260314T180000Z
DTEND:20260314T200000Z
SUMMARY:Angers SCO vs OGC Nice
DESCRIPTION:WhenKickoff reminder for Angers SCO vs OGC Nice
URL:https://whenkickoff.com/en/match/angers-sco-vs-ogc-nice-542638/
BEGIN:VALARM
TRIGGER:-PT15M
ACTION:DISPLAY
DESCRIPTION:Match starts soon
END:VALARM
END:VEVENT
END:VCALENDAR
