BEGIN:VCALENDAR
VERSION:2.0
PRODID:-//WhenKickoff//Match Reminder//EN
BEGIN:VEVENT
UID:wk-542634-15@whenkickoff.com
DTSTAMP:20260419T181906Z
DTSTART:20260315T161500Z
DTEND:20260315T181500Z
SUMMARY:FC Metz vs Toulouse FC
DESCRIPTION:WhenKickoff reminder for FC Metz vs Toulouse FC
URL:https://whenkickoff.com/en/match/fc-metz-vs-toulouse-fc-542634/
BEGIN:VALARM
TRIGGER:-PT15M
ACTION:DISPLAY
DESCRIPTION:Match starts soon
END:VALARM
END:VEVENT
END:VCALENDAR
