BEGIN:VCALENDAR
VERSION:2.0
PRODID:-//WhenKickoff//Match Reminder//EN
BEGIN:VEVENT
UID:wk-542630-15@whenkickoff.com
DTSTAMP:20260419T125432Z
DTSTART:20260308T161500Z
DTEND:20260308T181500Z
SUMMARY:Stade Brestois 29 vs Le Havre AC
DESCRIPTION:WhenKickoff reminder for Stade Brestois 29 vs Le Havre AC
URL:https://whenkickoff.com/en/match/stade-brestois-29-vs-le-havre-ac-542630/
BEGIN:VALARM
TRIGGER:-PT15M
ACTION:DISPLAY
DESCRIPTION:Match starts soon
END:VALARM
END:VEVENT
END:VCALENDAR
