BEGIN:VCALENDAR
VERSION:2.0
PRODID:-//WhenKickoff//Match Reminder//EN
BEGIN:VEVENT
UID:wk-542626-15@whenkickoff.com
DTSTAMP:20260419T163038Z
DTSTART:20260308T194500Z
DTEND:20260308T214500Z
SUMMARY:Olympique Lyonnais vs Paris FC
DESCRIPTION:WhenKickoff reminder for Olympique Lyonnais vs Paris FC
URL:https://whenkickoff.com/en/match/olympique-lyonnais-vs-paris-fc-542626/
BEGIN:VALARM
TRIGGER:-PT15M
ACTION:DISPLAY
DESCRIPTION:Match starts soon
END:VALARM
END:VEVENT
END:VCALENDAR
