BEGIN:VCALENDAR
VERSION:2.0
PRODID:-//WhenKickoff//Match Reminder//EN
BEGIN:VEVENT
UID:wk-542623-15@whenkickoff.com
DTSTAMP:20260419T163038Z
DTSTART:20260307T160000Z
DTEND:20260307T180000Z
SUMMARY:FC Nantes vs Angers SCO
DESCRIPTION:WhenKickoff reminder for FC Nantes vs Angers SCO
URL:https://whenkickoff.com/en/match/fc-nantes-vs-angers-sco-542623/
BEGIN:VALARM
TRIGGER:-PT15M
ACTION:DISPLAY
DESCRIPTION:Match starts soon
END:VALARM
END:VEVENT
END:VCALENDAR
