BEGIN:VCALENDAR
VERSION:2.0
PRODID:-//WhenKickoff//Match Reminder//EN
BEGIN:VEVENT
UID:wk-542611-15@whenkickoff.com
DTSTAMP:20260419T215120Z
DTSTART:20260222T161500Z
DTEND:20260222T181500Z
SUMMARY:Angers SCO vs Lille OSC
DESCRIPTION:WhenKickoff reminder for Angers SCO vs Lille OSC
URL:https://whenkickoff.com/en/match/angers-sco-vs-lille-osc-542611/
BEGIN:VALARM
TRIGGER:-PT15M
ACTION:DISPLAY
DESCRIPTION:Match starts soon
END:VALARM
END:VEVENT
END:VCALENDAR
