BEGIN:VCALENDAR
VERSION:2.0
PRODID:-//WhenKickoff//Match Reminder//EN
BEGIN:VEVENT
UID:wk-542609-15@whenkickoff.com
DTSTAMP:20260419T200116Z
DTSTART:20260222T194500Z
DTEND:20260222T214500Z
SUMMARY:RC Strasbourg Alsace vs Olympique Lyonnais
DESCRIPTION:WhenKickoff reminder for RC Strasbourg Alsace vs Olympique Lyonnais
URL:https://whenkickoff.com/en/match/rc-strasbourg-alsace-vs-olympique-lyonnais-542609/
BEGIN:VALARM
TRIGGER:-PT15M
ACTION:DISPLAY
DESCRIPTION:Match starts soon
END:VALARM
END:VEVENT
END:VCALENDAR
