BEGIN:VCALENDAR
VERSION:2.0
PRODID:-//WhenKickoff//Match Reminder//EN
BEGIN:VEVENT
UID:wk-542603-15@whenkickoff.com
DTSTAMP:20260420T073029Z
DTSTART:20260213T180000Z
DTEND:20260213T200000Z
SUMMARY:Stade Rennais FC 1901 vs Paris Saint-Germain FC
DESCRIPTION:WhenKickoff reminder for Stade Rennais FC 1901 vs Paris Saint-Germain FC
URL:https://whenkickoff.com/en/match/stade-rennais-fc-1901-vs-paris-saint-germain-fc-542603/
BEGIN:VALARM
TRIGGER:-PT15M
ACTION:DISPLAY
DESCRIPTION:Match starts soon
END:VALARM
END:VEVENT
END:VCALENDAR
