BEGIN:VCALENDAR
VERSION:2.0
PRODID:-//WhenKickoff//Match Reminder//EN
BEGIN:VEVENT
UID:wk-542602-15@whenkickoff.com
DTSTAMP:20260420T054632Z
DTSTART:20260214T180000Z
DTEND:20260214T200000Z
SUMMARY:Lille OSC vs Stade Brestois 29
DESCRIPTION:WhenKickoff reminder for Lille OSC vs Stade Brestois 29
URL:https://whenkickoff.com/en/match/lille-osc-vs-stade-brestois-29-542602/
BEGIN:VALARM
TRIGGER:-PT15M
ACTION:DISPLAY
DESCRIPTION:Match starts soon
END:VALARM
END:VEVENT
END:VCALENDAR
