BEGIN:VCALENDAR
VERSION:2.0
PRODID:-//WhenKickoff//Match Reminder//EN
BEGIN:VEVENT
UID:wk-542601-15@whenkickoff.com
DTSTAMP:20260420T072956Z
DTSTART:20260214T160000Z
DTEND:20260214T180000Z
SUMMARY:Olympique de Marseille vs RC Strasbourg Alsace
DESCRIPTION:WhenKickoff reminder for Olympique de Marseille vs RC Strasbourg Alsace
URL:https://whenkickoff.com/en/match/olympique-de-marseille-vs-rc-strasbourg-alsace-542601/
BEGIN:VALARM
TRIGGER:-PT15M
ACTION:DISPLAY
DESCRIPTION:Match starts soon
END:VALARM
END:VEVENT
END:VCALENDAR
