BEGIN:VCALENDAR
VERSION:2.0
PRODID:-//WhenKickoff//Match Reminder//EN
BEGIN:VEVENT
UID:wk-542600-15@whenkickoff.com
DTSTAMP:20260420T033821Z
DTSTART:20260215T194500Z
DTEND:20260215T214500Z
SUMMARY:Olympique Lyonnais vs OGC Nice
DESCRIPTION:WhenKickoff reminder for Olympique Lyonnais vs OGC Nice
URL:https://whenkickoff.com/en/match/olympique-lyonnais-vs-ogc-nice-542600/
BEGIN:VALARM
TRIGGER:-PT15M
ACTION:DISPLAY
DESCRIPTION:Match starts soon
END:VALARM
END:VEVENT
END:VCALENDAR
