BEGIN:VCALENDAR
VERSION:2.0
PRODID:-//WhenKickoff//Match Reminder//EN
BEGIN:VEVENT
UID:wk-542599-15@whenkickoff.com
DTSTAMP:20260420T072956Z
DTSTART:20260214T200500Z
DTEND:20260214T220500Z
SUMMARY:Paris FC vs Racing Club de Lens
DESCRIPTION:WhenKickoff reminder for Paris FC vs Racing Club de Lens
URL:https://whenkickoff.com/en/match/paris-fc-vs-racing-club-de-lens-542599/
BEGIN:VALARM
TRIGGER:-PT15M
ACTION:DISPLAY
DESCRIPTION:Match starts soon
END:VALARM
END:VEVENT
END:VCALENDAR
