BEGIN:VCALENDAR
VERSION:2.0
PRODID:-//WhenKickoff//Match Reminder//EN
BEGIN:VEVENT
UID:wk-542598-15@whenkickoff.com
DTSTAMP:20260420T033733Z
DTSTART:20260215T161500Z
DTEND:20260215T181500Z
SUMMARY:FC Metz vs AJ Auxerre
DESCRIPTION:WhenKickoff reminder for FC Metz vs AJ Auxerre
URL:https://whenkickoff.com/en/match/fc-metz-vs-aj-auxerre-542598/
BEGIN:VALARM
TRIGGER:-PT15M
ACTION:DISPLAY
DESCRIPTION:Match starts soon
END:VALARM
END:VEVENT
END:VCALENDAR
