BEGIN:VCALENDAR
VERSION:2.0
PRODID:-//WhenKickoff//Match Reminder//EN
BEGIN:VEVENT
UID:wk-542597-15@whenkickoff.com
DTSTAMP:20260420T033735Z
DTSTART:20260215T161500Z
DTEND:20260215T181500Z
SUMMARY:FC Lorient vs Angers SCO
DESCRIPTION:WhenKickoff reminder for FC Lorient vs Angers SCO
URL:https://whenkickoff.com/en/match/fc-lorient-vs-angers-sco-542597/
BEGIN:VALARM
TRIGGER:-PT15M
ACTION:DISPLAY
DESCRIPTION:Match starts soon
END:VALARM
END:VEVENT
END:VCALENDAR
