BEGIN:VCALENDAR
VERSION:2.0
PRODID:-//WhenKickoff//Match Reminder//EN
BEGIN:VEVENT
UID:wk-542596-15@whenkickoff.com
DTSTAMP:20260420T054744Z
DTSTART:20260213T200500Z
DTEND:20260213T220500Z
SUMMARY:AS Monaco FC vs FC Nantes
DESCRIPTION:WhenKickoff reminder for AS Monaco FC vs FC Nantes
URL:https://whenkickoff.com/en/match/as-monaco-fc-vs-fc-nantes-542596/
BEGIN:VALARM
TRIGGER:-PT15M
ACTION:DISPLAY
DESCRIPTION:Match starts soon
END:VALARM
END:VEVENT
END:VCALENDAR
