BEGIN:VCALENDAR
VERSION:2.0
PRODID:-//WhenKickoff//Match Reminder//EN
BEGIN:VEVENT
UID:wk-542595-15@whenkickoff.com
DTSTAMP:20260420T035344Z
DTSTART:20260215T140000Z
DTEND:20260215T160000Z
SUMMARY:Le Havre AC vs Toulouse FC
DESCRIPTION:WhenKickoff reminder for Le Havre AC vs Toulouse FC
URL:https://whenkickoff.com/en/match/le-havre-ac-vs-toulouse-fc-542595/
BEGIN:VALARM
TRIGGER:-PT15M
ACTION:DISPLAY
DESCRIPTION:Match starts soon
END:VALARM
END:VEVENT
END:VCALENDAR
