BEGIN:VCALENDAR
VERSION:2.0
PRODID:-//WhenKickoff//Match Reminder//EN
BEGIN:VEVENT
UID:wk-542594-15@whenkickoff.com
DTSTAMP:20260420T124730Z
DTSTART:20260207T180000Z
DTEND:20260207T200000Z
SUMMARY:Stade Brestois 29 vs FC Lorient
DESCRIPTION:WhenKickoff reminder for Stade Brestois 29 vs FC Lorient
URL:https://whenkickoff.com/en/match/stade-brestois-29-vs-fc-lorient-542594/
BEGIN:VALARM
TRIGGER:-PT15M
ACTION:DISPLAY
DESCRIPTION:Match starts soon
END:VALARM
END:VEVENT
END:VCALENDAR
