BEGIN:VCALENDAR
VERSION:2.0
PRODID:-//WhenKickoff//Match Reminder//EN
BEGIN:VEVENT
UID:wk-542593-15@whenkickoff.com
DTSTAMP:20260420T102906Z
DTSTART:20260208T161500Z
DTEND:20260208T181500Z
SUMMARY:Angers SCO vs Toulouse FC
DESCRIPTION:WhenKickoff reminder for Angers SCO vs Toulouse FC
URL:https://whenkickoff.com/en/match/angers-sco-vs-toulouse-fc-542593/
BEGIN:VALARM
TRIGGER:-PT15M
ACTION:DISPLAY
DESCRIPTION:Match starts soon
END:VALARM
END:VEVENT
END:VCALENDAR
