BEGIN:VCALENDAR
VERSION:2.0
PRODID:-//WhenKickoff//Match Reminder//EN
BEGIN:VEVENT
UID:wk-542592-15@whenkickoff.com
DTSTAMP:20260420T121924Z
DTSTART:20260207T160000Z
DTEND:20260207T180000Z
SUMMARY:Racing Club de Lens vs Stade Rennais FC 1901
DESCRIPTION:WhenKickoff reminder for Racing Club de Lens vs Stade Rennais FC 1901
URL:https://whenkickoff.com/en/match/racing-club-de-lens-vs-stade-rennais-fc-1901-542592/
BEGIN:VALARM
TRIGGER:-PT15M
ACTION:DISPLAY
DESCRIPTION:Match starts soon
END:VALARM
END:VEVENT
END:VCALENDAR
