BEGIN:VCALENDAR
VERSION:2.0
PRODID:-//WhenKickoff//Match Reminder//EN
BEGIN:VEVENT
UID:wk-542590-15@whenkickoff.com
DTSTAMP:20260420T112732Z
DTSTART:20260208T140000Z
DTEND:20260208T160000Z
SUMMARY:OGC Nice vs AS Monaco FC
DESCRIPTION:WhenKickoff reminder for OGC Nice vs AS Monaco FC
URL:https://whenkickoff.com/en/match/ogc-nice-vs-as-monaco-fc-542590/
BEGIN:VALARM
TRIGGER:-PT15M
ACTION:DISPLAY
DESCRIPTION:Match starts soon
END:VALARM
END:VEVENT
END:VCALENDAR
