BEGIN:VCALENDAR
VERSION:2.0
PRODID:-//WhenKickoff//Match Reminder//EN
BEGIN:VEVENT
UID:wk-542589-15@whenkickoff.com
DTSTAMP:20260420T124730Z
DTSTART:20260207T200500Z
DTEND:20260207T220500Z
SUMMARY:FC Nantes vs Olympique Lyonnais
DESCRIPTION:WhenKickoff reminder for FC Nantes vs Olympique Lyonnais
URL:https://whenkickoff.com/en/match/fc-nantes-vs-olympique-lyonnais-542589/
BEGIN:VALARM
TRIGGER:-PT15M
ACTION:DISPLAY
DESCRIPTION:Match starts soon
END:VALARM
END:VEVENT
END:VCALENDAR
