BEGIN:VCALENDAR
VERSION:2.0
PRODID:-//WhenKickoff//Match Reminder//EN
BEGIN:VEVENT
UID:wk-542588-15@whenkickoff.com
DTSTAMP:20260420T121923Z
DTSTART:20260206T194500Z
DTEND:20260206T214500Z
SUMMARY:FC Metz vs Lille OSC
DESCRIPTION:WhenKickoff reminder for FC Metz vs Lille OSC
URL:https://whenkickoff.com/en/match/fc-metz-vs-lille-osc-542588/
BEGIN:VALARM
TRIGGER:-PT15M
ACTION:DISPLAY
DESCRIPTION:Match starts soon
END:VALARM
END:VEVENT
END:VCALENDAR
