BEGIN:VCALENDAR
VERSION:2.0
PRODID:-//WhenKickoff//Match Reminder//EN
BEGIN:VEVENT
UID:wk-542582-15@whenkickoff.com
DTSTAMP:20260420T184136Z
DTSTART:20260201T140000Z
DTEND:20260201T160000Z
SUMMARY:Olympique Lyonnais vs Lille OSC
DESCRIPTION:WhenKickoff reminder for Olympique Lyonnais vs Lille OSC
URL:https://whenkickoff.com/en/match/olympique-lyonnais-vs-lille-osc-542582/
BEGIN:VALARM
TRIGGER:-PT15M
ACTION:DISPLAY
DESCRIPTION:Match starts soon
END:VALARM
END:VEVENT
END:VCALENDAR
