BEGIN:VCALENDAR
VERSION:2.0
PRODID:-//WhenKickoff//Match Reminder//EN
BEGIN:VEVENT
UID:wk-542579-15@whenkickoff.com
DTSTAMP:20260420T194434Z
DTSTART:20260131T160000Z
DTEND:20260131T180000Z
SUMMARY:Paris FC vs Olympique de Marseille
DESCRIPTION:WhenKickoff reminder for Paris FC vs Olympique de Marseille
URL:https://whenkickoff.com/en/match/paris-fc-vs-olympique-de-marseille-542579/
BEGIN:VALARM
TRIGGER:-PT15M
ACTION:DISPLAY
DESCRIPTION:Match starts soon
END:VALARM
END:VEVENT
END:VCALENDAR
