BEGIN:VCALENDAR
VERSION:2.0
PRODID:-//WhenKickoff//Match Reminder//EN
BEGIN:VEVENT
UID:wk-542578-15@whenkickoff.com
DTSTAMP:20260420T203558Z
DTSTART:20260131T180000Z
DTEND:20260131T200000Z
SUMMARY:FC Lorient vs FC Nantes
DESCRIPTION:WhenKickoff reminder for FC Lorient vs FC Nantes
URL:https://whenkickoff.com/en/match/fc-lorient-vs-fc-nantes-542578/
BEGIN:VALARM
TRIGGER:-PT15M
ACTION:DISPLAY
DESCRIPTION:Match starts soon
END:VALARM
END:VEVENT
END:VCALENDAR
